BEGIN:VCALENDAR
VERSION:2.0
PRODID:-//Tools 4 Teaching  - ECPv6.10.2//NONSGML v1.0//EN
CALSCALE:GREGORIAN
METHOD:PUBLISH
X-WR-CALNAME:Tools 4 Teaching 
X-ORIGINAL-URL:https://www.tools4teaching.com
X-WR-CALDESC:Events for Tools 4 Teaching 
REFRESH-INTERVAL;VALUE=DURATION:PT1H
X-Robots-Tag:noindex
X-PUBLISHED-TTL:PT1H
BEGIN:VTIMEZONE
TZID:America/Phoenix
BEGIN:STANDARD
TZOFFSETFROM:-0700
TZOFFSETTO:-0700
TZNAME:MST
DTSTART:20160101T000000
END:STANDARD
END:VTIMEZONE
BEGIN:VTIMEZONE
TZID:UTC
BEGIN:STANDARD
TZOFFSETFROM:+0000
TZOFFSETTO:+0000
TZNAME:UTC
DTSTART:20150101T000000
END:STANDARD
END:VTIMEZONE
BEGIN:VEVENT
DTSTART;TZID=America/Phoenix:20180911T113000
DTEND;TZID=America/Phoenix:20180911T133000
DTSTAMP:20260421T125534
CREATED:20180228T162041Z
LAST-MODIFIED:20180228T163029Z
UID:18942-1536665400-1536672600@www.tools4teaching.com
SUMMARY:Empower Lunch Hour
DESCRIPTION:Join a passion purpose community event where you can mix\, mingle and meet new people who are making a difference. Bring a colleague or friend and enjoy great food and conversation. You will be empowered on a parenting topic each lunch. \n  \nFeel free to bring any collateral you wish to share and put in gift bags for all attendees. Call the MASK office with any questions 480-502-5337
URL:https://www.tools4teaching.com/event/empower-lunch-hour-4/
LOCATION:Carrabba’s Italian Grill\, 17007 N Scottsdale Rd.\, Phoenix\, AZ\, 85255\, United States
CATEGORIES:MASK Empower Lunch Hour
ATTACH;FMTTYPE=image/png:https://www.tools4teaching.com/wp-content/uploads/2018/02/Screen-Shot-2018-02-23-at-6.54.23-PM.png
END:VEVENT
BEGIN:VEVENT
DTSTART;TZID=America/Phoenix:20171205T113000
DTEND;TZID=America/Phoenix:20171205T133000
DTSTAMP:20260421T125534
CREATED:20170109T202837Z
LAST-MODIFIED:20170109T213018Z
UID:5962-1512473400-1512480600@www.tools4teaching.com
SUMMARY:Empower Lunch Hour
DESCRIPTION:JOIN A PASSION-PURPOSED COMMUNITY\nevent where you can mix\, mingle\nand meet new people who are making a difference.\nBring along a colleague or friend\, and enjoy great food and conversation. You’ll\nbe inspired by a guest speaker who is making an impact in a big way.
URL:https://www.tools4teaching.com/event/empower-lunch-hour-3/
LOCATION:Carrabba’s Italian Grill\, 17007 N Scottsdale Rd.\, Phoenix\, AZ\, 85255\, United States
CATEGORIES:MASK Empower Lunch Hour
END:VEVENT
BEGIN:VEVENT
DTSTART;TZID=America/Phoenix:20171007T180000
DTEND;TZID=America/Phoenix:20171007T180000
DTSTAMP:20260421T125534
CREATED:20161110T230704Z
LAST-MODIFIED:20170308T195537Z
UID:5735-1507399200-1507399200@www.tools4teaching.com
SUMMARY:España MASKer Aide Ball
DESCRIPTION:  \nJoin us to celebrate a decade of dedication to serving children and families. As MASK reaches this decade mark\, we invite you to help us continue to build the MASK legacy not just for families now but for mañana\, as this year’s focus is to raise funds to translate our programming for the Spanish speaking community. \nPurchase your tickets to the annual MASKer Aide Ball today at www.maskmatters.org and become part of the MASK familia. \nSaturday October 7\, 2017 \n6:00 PM – 10:30 PM \nFairmont Scottsdale Princess \nBlack Tie & MASKS Preferred \nCocktail Reception\, Entertainment\, Dinner\, Dancing & Program \nSilent & Live Auctions
URL:https://www.tools4teaching.com/event/espana-masker-aide-ball/
END:VEVENT
BEGIN:VEVENT
DTSTART;TZID=America/Phoenix:20170912T113000
DTEND;TZID=America/Phoenix:20170912T133000
DTSTAMP:20260421T125534
CREATED:20170109T202706Z
LAST-MODIFIED:20170109T202706Z
UID:5960-1505215800-1505223000@www.tools4teaching.com
SUMMARY:Empower Lunch Hour
DESCRIPTION:JOIN A PASSION-PURPOSED COMMUNITY\nevent where you can mix\, mingle\nand meet new people who are making a difference.\nBring along a colleague or friend\, and enjoy great food and conversation. You’ll\nbe inspired by a guest speaker who is making an impact in a big way.
URL:https://www.tools4teaching.com/event/empower-lunch-hour-2/
LOCATION:Carrabba’s Italian Grill\, 17007 N Scottsdale Rd.\, Phoenix\, AZ\, 85255\, United States
CATEGORIES:MASK Empower Lunch Hour
END:VEVENT
BEGIN:VEVENT
DTSTART;TZID=America/Phoenix:20170405T093000
DTEND;TZID=America/Phoenix:20170405T110000
DTSTAMP:20260421T125534
CREATED:20170109T202225Z
LAST-MODIFIED:20170109T202225Z
UID:5956-1491384600-1491390000@www.tools4teaching.com
SUMMARY:Parent University
DESCRIPTION:These 1-1/2 hour lessons offer parenting solutions for today’s families. MASK tackles important topics—from drugs and alcohol to bullying\nand Internet safety—and gives parents and the community knowledge and tools to manage potential challenges.We want to help you and your family\nnavigate through the school-age years by providing information and solutions about various issues before they may even arise.\n\n\n\n\n\nRx for Prevention\n\n\nApril 5th\n\n9:30 to 11:00 am\n\n 
URL:https://www.tools4teaching.com/event/parent-university-3/
LOCATION:MASK Office\, 8937 E. Bell Road Suite 202\, Scottsdale\, Arizona\, 85260
CATEGORIES:MASK Parent University
END:VEVENT
BEGIN:VEVENT
DTSTART;TZID=America/Phoenix:20170404T113000
DTEND;TZID=America/Phoenix:20170404T133000
DTSTAMP:20260421T125534
CREATED:20170109T202516Z
LAST-MODIFIED:20170109T202516Z
UID:5958-1491305400-1491312600@www.tools4teaching.com
SUMMARY:Empower Lunch Hour
DESCRIPTION:JOIN A PASSION-PURPOSED COMMUNITY\nevent where you can mix\, mingle\nand meet new people who are making a difference.\nBring along a colleague or friend\, and enjoy great food and conversation. You’ll\nbe inspired by a guest speaker who is making an impact in a big way.
URL:https://www.tools4teaching.com/event/empower-lunch-hour/
LOCATION:Carrabba’s Italian Grill\, 17007 N Scottsdale Rd.\, Phoenix\, AZ\, 85255\, United States
CATEGORIES:MASK Empower Lunch Hour
END:VEVENT
BEGIN:VEVENT
DTSTART;TZID=America/Phoenix:20170207T093000
DTEND;TZID=America/Phoenix:20170207T110000
DTSTAMP:20260421T125534
CREATED:20170109T202048Z
LAST-MODIFIED:20170109T202048Z
UID:5954-1486459800-1486465200@www.tools4teaching.com
SUMMARY:Parent University
DESCRIPTION:These 1-1/2 hour lessons offer parenting solutions for today’s families. MASK tackles important topics—from drugs and alcohol to bullying\nand Internet safety—and gives parents and the community knowledge and tools to manage potential challenges.We want to help you and your family\nnavigate through the school-age years by providing information and solutions about various issues before they may even arise.\n\n\n\n\n\n\n\nRx 4 Prevention\n\nFebruary 7th\n\n9:30 to 11:00 am
URL:https://www.tools4teaching.com/event/parent-university-2/
LOCATION:MASK Office\, 8937 E. Bell Road Suite 202\, Scottsdale\, Arizona\, 85260
CATEGORIES:MASK Parent University
END:VEVENT
BEGIN:VEVENT
DTSTART;TZID=America/Phoenix:20170118T093000
DTEND;TZID=America/Phoenix:20170118T110000
DTSTAMP:20260421T125534
CREATED:20170109T201708Z
LAST-MODIFIED:20170109T201718Z
UID:5950-1484731800-1484737200@www.tools4teaching.com
SUMMARY:Parent University
DESCRIPTION: Register for MASK Parent University \nThese 1-1/2 hour lessons offer parenting solutions for today’s families.\nMASK tackles important topics—from drugs and alcohol to bullying and Internet safety—and gives parents and the community knowledge and tools to manage potential challenges.\nWe want to help you and your family navigate through the school-age years by providing information and solutions about various issues before they may even arise.\n\n\n\n\nCyberSavvy – January 18th\n\n9:30 to 11:00 am\n\n\n\nMASK Parent University\nis held at the MASK office\, located at 8937 E. Bell Road in Scottsdale.
URL:https://www.tools4teaching.com/event/parent-university/
LOCATION:MASK Office\, 8937 E. Bell Road Suite 202\, Scottsdale\, Arizona\, 85260
CATEGORIES:MASK Parent University
END:VEVENT
BEGIN:VEVENT
DTSTART;TZID=America/Phoenix:20161206T113000
DTEND;TZID=America/Phoenix:20161206T133000
DTSTAMP:20260421T125534
CREATED:20161122T170113Z
LAST-MODIFIED:20161128T210715Z
UID:5796-1481023800-1481031000@www.tools4teaching.com
SUMMARY:MASK Empower Lunch Hour
DESCRIPTION:Join a passion-purposed community event where you can mix\,mingle and meet new people who are making a difference. \nBring along a colleague or friend\, and enjoy great food and conversation. You’ll be inspired by a guest speaker who is making an impact in big way. \nMark your calendars: \nTuesday\, December 6\, 2016 \nTuesday\, April 4\, 2017 \nTuesday\, September 12\, 2017 \nTuesday\, December 5\, 2017 \n  \n 
URL:https://www.tools4teaching.com/event/mask-empower-lunch-hour/
LOCATION:Carrabba’s Italian Grill\, 17007 N Scottsdale Rd.\, Phoenix\, AZ\, 85255\, United States
ATTACH;FMTTYPE=image/jpeg:https://www.tools4teaching.com/wp-content/uploads/2016/11/EMPLH_AD_SLIDE_750x750.jpg
END:VEVENT
BEGIN:VEVENT
DTSTART;TZID=UTC:20161008T180000
DTEND;TZID=UTC:20161008T230000
DTSTAMP:20260421T125534
CREATED:20150910T123208Z
LAST-MODIFIED:20161110T230231Z
UID:3556-1475949600-1475967600@www.tools4teaching.com
SUMMARY:MASKer Aide Ball
DESCRIPTION:SAVE THE DATE \nSaturday\, October 7\, 2017 \nEspańa MASKer Aide Ball \nJoin us to celebrate a decade of dedication to serving children and families. As MASK reaches this decade mark\, we invite you to help us continue to build the MASK legacy not just for families now but for mańana\, as this year’s focus is to raise funds to translate our programming for the Spanish speaking community. \nPurchase your tickets to the annual MASKer Aide Ball today at www.maskmatters.org and become part of the MASK familia. \nSaturday October 7\, 2017 \n6:00 PM – 10:30 PM \nFairmont Scottsdale Princess \nBlack Tie & MASKS Preferred \nCocktail Reception\, Entertainment\, Dinner\, Dancing & Program \nSilent & Live Auctions  \nMASKer Aide Ball Honors \nTo be announced at the Ball \n*Dad Dialed In \n*E3 Award  \nMASK After Dark \nPlaza Bar at the Fairmont Scottsdale Princess  \n10:00 pm – 1:30 \n\n  \nMASKer Aide Ball Tickets\n\nTickets – $200\nTable of 10 –  $2000\nTable of 12 – $2400\nWomens MASK with out stick – $25\n\nWith stick – $30\n\n\nMens MASKs – $20\nRaffle tickets – $10 each or 20 for $150\n\nBuy Tickets\n\n  \nKeep the Ball rolling at the “Get MASKed” after-party featuring\, celebrity DJ Cedric Ceballos. The “Get MASKed” after party begins at 10:00 pm on the red carpet at the Fairmont Scottsdale Princess\, just steps away from the ballroom. Guest will enjoy great music\, a complimentary MASK\, midnight snacks and a chance to win an exciting prize. \nPurchase tickets or $20 at the door
URL:https://www.tools4teaching.com/event/masker-aide-ball/
LOCATION:Fairmont Scottsdale Princess Hotel & Resort\, 7575 E Princess Dr.\, Scottsdale\, AZ\, 85225\, United States
END:VEVENT
BEGIN:VEVENT
DTSTART;TZID=UTC:20151208T113000
DTEND;TZID=UTC:20151208T133000
DTSTAMP:20260421T125534
CREATED:20150923T034245Z
LAST-MODIFIED:20150923T034245Z
UID:3830-1449574200-1449581400@www.tools4teaching.com
SUMMARY:Unity Community Quarterly Lunch
DESCRIPTION:As an organization\, MASK (Mothers Awareness on School-age Kids) recognizes that there are many mothers in our community who are not only making a difference in their own families and the lives of those they love\, but also in the communities in which they live and work. As mothers\, we understand that the demands of motherhood often make it difficult for us to pursue our passion for helping others. It was in this spirit that we created the first annual MASK “Moms Making a Difference” Unity Award\, which honors inspiring women who are these kinds of change-makers. We then noticed the demand by our Unity Community to get together more than once a year and it was then that the MASK Unity Community Quarterly Lunches were created. Join a passion-purposed community event where you can mix\, mingle and meet new people who are making a difference. Bring along a colleague or friend\, and enjoy great food and conversation. You’ll also be inspired by a guest speaker who is making a difference. \nThe members of the Unity Community are positively affecting the lives of children and families every day. They will have the opportunity to collaboratively share their insights on promoting positive change at quarterly meetings. \n \n\n  \nUnity Community Lunch tickets and packages\n\nU-ticket– $25\nU-engage– $90\n\nIncludes 4 consecutive quarterly lunches with 1 guest pass to a (1) select quarterly lunch\, 4 complimentary copies of MASK the Magazine.\n\n\nU-ecucate– $165\n\nOne (1) ticket to the “Moms Making A Difference” Unity Award Luncheon\, two (2) consecutive Unity Community quarterly lunch tickets (please select dates in drop-down menu below)\, 2 issues of MASK The Magazine.\n\n\nU-empower– $225\n\n1 ticket to the Annual “Moms Making A Difference” Unity Award Luncheon\, 4 consecutive Unity Community quarterly lunches with 2 guest passes to two consecutive quarterly lunches (please select guest pass dates below)\, Unity magnetic Name Tag with name and cause listed\, 4 complimentary copies of MASK The Magazine “.\n\n\n\nBuy Tickets
URL:https://www.tools4teaching.com/event/unity-community-quarterly-lunch-2/
LOCATION:Carrabba’s Italian Grill\, 17007 N Scottsdale Rd.\, Phoenix\, AZ\, 85255\, United States
ATTACH;FMTTYPE=image/jpeg:https://www.tools4teaching.com/wp-content/uploads/2015/09/EVENTS-Rotator-FEmpower-Lunch-1160-x-500.jpg
END:VEVENT
BEGIN:VEVENT
DTSTART;TZID=UTC:20150908T113000
DTEND;TZID=UTC:20150908T133000
DTSTAMP:20260421T125534
CREATED:20150910T113112Z
LAST-MODIFIED:20150910T122612Z
UID:3545-1441711800-1441719000@www.tools4teaching.com
SUMMARY:Unity Community Quarterly Lunch
DESCRIPTION:As an organization\, MASK (Mothers Awareness on School-age Kids) recognizes that there are many mothers in our community who are not only making a difference in their own families and the lives of those they love\, but also in the communities in which they live and work. As mothers\, we understand that the demands of motherhood often make it difficult for us to pursue our passion for helping others. It was in this spirit that we created the first annual MASK “Moms Making a Difference” Unity Award\, which honors inspiring women who are these kinds of change-makers. We then noticed the demand by our Unity Community to get together more than once a year and it was then that the MASK Unity Community Quarterly Lunches were created. Join a passion-purposed community event where you can mix\, mingle and meet new people who are making a difference. Bring along a colleague or friend\, and enjoy great food and conversation. You’ll also be inspired by a guest speaker who is making a difference. \nThe members of the Unity Community are positively affecting the lives of children and families every day. They will have the opportunity to collaboratively share their insights on promoting positive change at quarterly meetings. \n\n  \nUnity Community Lunch tickets and packages\n\nU-ticket– $25\nU-engage– $90\n\nIncludes 4 consecutive quarterly lunches with 1 guest pass to a (1) select quarterly lunch\, 4 complimentary copies of MASK the Magazine.\n\n\nU-ecucate– $165\n\nOne (1) ticket to the “Moms Making A Difference” Unity Award Luncheon\, two (2) consecutive Unity Community quarterly lunch tickets (please select dates in drop-down menu below)\, 2 issues of MASK The Magazine.\n\n\nU-empower– $225\n\n1 ticket to the Annual “Moms Making A Difference” Unity Award Luncheon\, 4 consecutive Unity Community quarterly lunches with 2 guest passes to two consecutive quarterly lunches (please select guest pass dates below)\, Unity magnetic Name Tag with name and cause listed\, 4 complimentary copies of MASK The Magazine “.\n\n\n\nBuy Tickets
URL:https://www.tools4teaching.com/event/unity-community-quarterly-lunch/
LOCATION:Carrabba’s Italian Grill\, 17007 N Scottsdale Rd.\, Phoenix\, AZ\, 85255\, United States
ATTACH;FMTTYPE=image/jpeg:https://www.tools4teaching.com/wp-content/uploads/2015/09/EVENTS-Rotator-FEmpower-Lunch-1160-x-500.jpg
END:VEVENT
END:VCALENDAR