BEGIN:VCALENDAR
VERSION:2.0
PRODID:-//Tools 4 Teaching  - ECPv6.10.2//NONSGML v1.0//EN
CALSCALE:GREGORIAN
METHOD:PUBLISH
X-ORIGINAL-URL:https://www.tools4teaching.com
X-WR-CALDESC:Events for Tools 4 Teaching 
REFRESH-INTERVAL;VALUE=DURATION:PT1H
X-Robots-Tag:noindex
X-PUBLISHED-TTL:PT1H
BEGIN:VTIMEZONE
TZID:America/Phoenix
BEGIN:STANDARD
TZOFFSETFROM:-0700
TZOFFSETTO:-0700
TZNAME:MST
DTSTART:20170101T000000
END:STANDARD
END:VTIMEZONE
BEGIN:VEVENT
DTSTART;TZID=America/Phoenix:20200415T093000
DTEND;TZID=America/Phoenix:20200415T110000
DTSTAMP:20260421T055608
CREATED:20191114T210003Z
LAST-MODIFIED:20200221T042828Z
UID:22079-1586943000-1586948400@www.tools4teaching.com
SUMMARY:Parent University
DESCRIPTION:  \nApril 15th- 9:30-11:00 MST- Food & Fitness Topic \nHeld at the MASK office: \nThese 1-½ hour lessons offer parenting solutions for today’s families. MASK tackles tough to talk about topics – from drugs and alcohol to bullying and Internet safety- and gives parents and the community knowledge and tools to manage potential challenges.  \nWe want to help integrate these topics to conversations for families by providing information and solutions about various issues before they may even arise.     \nFrom sugar to salt\, what is fueling your child? Learn how to promote a healthy and active lifestyle in today’s digital world. \n 
URL:https://www.tools4teaching.com/event/parent-university-5/
CATEGORIES:MASK Parent University
ATTACH;FMTTYPE=image/png:https://www.tools4teaching.com/wp-content/uploads/2017/06/MASKParent-University-Logo.png
END:VEVENT
BEGIN:VEVENT
DTSTART;TZID=America/Phoenix:20200219T090000
DTEND;TZID=America/Phoenix:20200219T110000
DTSTAMP:20260421T055608
CREATED:20191114T205341Z
LAST-MODIFIED:20191114T205402Z
UID:22076-1582102800-1582110000@www.tools4teaching.com
SUMMARY:Parent University
DESCRIPTION:February 19th- Cyber Power Topic \nHeld at the MASK office: \nThese 1-½ hour lessons offer parenting solutions for today’s families. MASK tackles tough to talk about topics – from drugs and alcohol to bullying and Internet safety- and gives parents and the community knowledge and tools to manage potential challenges.  \nWe want to help integrate these topics to conversations for families by providing information and solutions about various issues before they may even arise.                                           \nLearn social media trends\, digital etiquette and how to promote healthy positive technology use. \n 
URL:https://www.tools4teaching.com/event/parent-university-4/
CATEGORIES:MASK Parent University
ATTACH;FMTTYPE=image/png:https://www.tools4teaching.com/wp-content/uploads/2017/06/MASKParent-University-Logo.png
END:VEVENT
BEGIN:VEVENT
DTSTART;TZID=America/Phoenix:20190410T093000
DTEND;TZID=America/Phoenix:20190410T110000
DTSTAMP:20260421T055608
CREATED:20181030T171851Z
LAST-MODIFIED:20181030T172043Z
UID:20390-1554888600-1554894000@www.tools4teaching.com
SUMMARY:MASK Parent University
DESCRIPTION:We want to help you and your family navigate through the school-age years by providing \ninformation and solutions about various issues before they may even arise. \nThese 1-1/2 hour lessons offer parenting solutions for today’s families. MASK tackles \nimportant topics—from drugs and alcohol\, to bullying and Internet safety—and gives \nparents and the community the knowledge and tools to manage potential challenges. \n  Prescription for prevention: The gateway effect- how early drugs can lead to abuse and how to help them avoid taking the first step. 
URL:https://www.tools4teaching.com/event/mask-parent-university-2/
LOCATION:MASK Office\, 8937 E. Bell Road Suite 202\, Scottsdale\, Arizona\, 85260
CATEGORIES:MASK Parent University
ATTACH;FMTTYPE=image/png:https://www.tools4teaching.com/wp-content/uploads/2018/10/MASKParent-University-Logo.png
END:VEVENT
BEGIN:VEVENT
DTSTART;TZID=America/Phoenix:20181113T093000
DTEND;TZID=America/Phoenix:20181113T110000
DTSTAMP:20260421T055608
CREATED:20181030T171413Z
LAST-MODIFIED:20181030T171413Z
UID:20387-1542101400-1542106800@www.tools4teaching.com
SUMMARY:MASK Parent University
DESCRIPTION:MASK Parent University are sessions to help you and your family navigate through the school-age years by providing \ninformation on and solutions about various issues before they may even arise. \nThese 1-1/2 hour lessons offer parenting solutions for today’s families. MASK tackles \nimportant topics—from drugs and alcohol\, to bullying and Internet safety—and gives \nparents and the community the knowledge and tools to manage potential challenges. \n\nThis topic is on technology safety- for parents of children from kindergarten- college.\nDigital Deception: Living in today’s digital era and navigating your child through the internet waves. Learn how to prepare and protect your child in today’s digital reality.
URL:https://www.tools4teaching.com/event/mask-parent-university/
LOCATION:MASK Office\, 8937 E. Bell Road Suite 202\, Scottsdale\, Arizona\, 85260
CATEGORIES:MASK Parent University
ATTACH;FMTTYPE=image/png:https://www.tools4teaching.com/wp-content/uploads/2018/10/MASKParent-University-Logo.png
END:VEVENT
BEGIN:VEVENT
DTSTART;TZID=America/Phoenix:20170405T093000
DTEND;TZID=America/Phoenix:20170405T110000
DTSTAMP:20260421T055608
CREATED:20170109T202225Z
LAST-MODIFIED:20170109T202225Z
UID:5956-1491384600-1491390000@www.tools4teaching.com
SUMMARY:Parent University
DESCRIPTION:These 1-1/2 hour lessons offer parenting solutions for today’s families. MASK tackles important topics—from drugs and alcohol to bullying\nand Internet safety—and gives parents and the community knowledge and tools to manage potential challenges.We want to help you and your family\nnavigate through the school-age years by providing information and solutions about various issues before they may even arise.\n\n\n\n\n\nRx for Prevention\n\n\nApril 5th\n\n9:30 to 11:00 am\n\n 
URL:https://www.tools4teaching.com/event/parent-university-3/
LOCATION:MASK Office\, 8937 E. Bell Road Suite 202\, Scottsdale\, Arizona\, 85260
CATEGORIES:MASK Parent University
END:VEVENT
BEGIN:VEVENT
DTSTART;TZID=America/Phoenix:20170207T093000
DTEND;TZID=America/Phoenix:20170207T110000
DTSTAMP:20260421T055608
CREATED:20170109T202048Z
LAST-MODIFIED:20170109T202048Z
UID:5954-1486459800-1486465200@www.tools4teaching.com
SUMMARY:Parent University
DESCRIPTION:These 1-1/2 hour lessons offer parenting solutions for today’s families. MASK tackles important topics—from drugs and alcohol to bullying\nand Internet safety—and gives parents and the community knowledge and tools to manage potential challenges.We want to help you and your family\nnavigate through the school-age years by providing information and solutions about various issues before they may even arise.\n\n\n\n\n\n\n\nRx 4 Prevention\n\nFebruary 7th\n\n9:30 to 11:00 am
URL:https://www.tools4teaching.com/event/parent-university-2/
LOCATION:MASK Office\, 8937 E. Bell Road Suite 202\, Scottsdale\, Arizona\, 85260
CATEGORIES:MASK Parent University
END:VEVENT
BEGIN:VEVENT
DTSTART;TZID=America/Phoenix:20170118T093000
DTEND;TZID=America/Phoenix:20170118T110000
DTSTAMP:20260421T055608
CREATED:20170109T201708Z
LAST-MODIFIED:20170109T201718Z
UID:5950-1484731800-1484737200@www.tools4teaching.com
SUMMARY:Parent University
DESCRIPTION: Register for MASK Parent University \nThese 1-1/2 hour lessons offer parenting solutions for today’s families.\nMASK tackles important topics—from drugs and alcohol to bullying and Internet safety—and gives parents and the community knowledge and tools to manage potential challenges.\nWe want to help you and your family navigate through the school-age years by providing information and solutions about various issues before they may even arise.\n\n\n\n\nCyberSavvy – January 18th\n\n9:30 to 11:00 am\n\n\n\nMASK Parent University\nis held at the MASK office\, located at 8937 E. Bell Road in Scottsdale.
URL:https://www.tools4teaching.com/event/parent-university/
LOCATION:MASK Office\, 8937 E. Bell Road Suite 202\, Scottsdale\, Arizona\, 85260
CATEGORIES:MASK Parent University
END:VEVENT
END:VCALENDAR