BEGIN:VCALENDAR
VERSION:2.0
PRODID:-//Tools 4 Teaching  - ECPv6.10.2//NONSGML v1.0//EN
CALSCALE:GREGORIAN
METHOD:PUBLISH
X-ORIGINAL-URL:https://www.tools4teaching.com
X-WR-CALDESC:Events for Tools 4 Teaching 
REFRESH-INTERVAL;VALUE=DURATION:PT1H
X-Robots-Tag:noindex
X-PUBLISHED-TTL:PT1H
BEGIN:VTIMEZONE
TZID:America/Phoenix
BEGIN:STANDARD
TZOFFSETFROM:-0700
TZOFFSETTO:-0700
TZNAME:MST
DTSTART:20180101T000000
END:STANDARD
END:VTIMEZONE
BEGIN:VEVENT
DTSTART;TZID=America/Phoenix:20191012T180000
DTEND;TZID=America/Phoenix:20191012T230000
DTSTAMP:20260421T090136
CREATED:20190304T193435Z
LAST-MODIFIED:20190510T030021Z
UID:20513-1570903200-1570921200@www.tools4teaching.com
SUMMARY:The Orient MASKer Aide Ball
DESCRIPTION:The Orient MASKer Aide Ball \nJoin MASK for The 12th Annual Orient MASKer Aide Ball\nSaturday October 12th\, 2019\nat the beautiful Fairmont Scottsdale Princess\nPlease join us for an exotic and dramatic experience in celebration of our 12th year as an organization that reveals and provides solutions to the struggles facing youth and families today. \nYour attendance and support will help us raise funds to continue our mission of empowering children to make safe\, healthy choices. \nEnjoy an elegant evening of fine dining\, music\, dancing\, silent and live auctions. \nThis elegant\, black-tie affair will be held at the Fairmont Scottsdale Princess on Saturday\, October 12\, 2019. The theme of the MASKer Aide Ball changes each year\, and the Fairmont Scottsdale Princess will no doubt create a mysterious masquerade masterpiece. From the decor to the entertainment and menu\, this year’s event will be another visually exciting and memorable evening. Guests will enjoy an evening of fine dining\, entertainment\, music\, dancing\, and silent and live auctions. The festive evening will include an exquisite culinary experience enticing the eyes as well as the most sophisticated palate. There will be an extensive silent auction and an exciting live auction with yet another vehicle donated by Valley Toyota Dealers. The night doesn’t stop there\, the ball keeps rolling as guest can enjoy the after party at the Plaza Bar till morning hours.  \nFunds raised at the event will support MASK’s mission to strengthen life skills for children and inform and educate families on the ever-changing challenges facing youth today\, ultimately empowering children to make safe\, healthy choices.  \n \nPhantom MASKer Aide Ball from MASK on Vimeo. \nTo purchase tickets and tables for The Orient MASKer Aide Ball click here.\nSponsorships available check out all the levels by clicking here.\nContact MASK at 480-502-5337 for information
URL:https://www.tools4teaching.com/event/orient-masker-aide-ball/
LOCATION:Fairmont Scottsdale Princess Hotel & Resort\, 7575 E Princess Dr.\, Scottsdale\, AZ\, 85225\, United States
CATEGORIES:Espańa MASKer Aide Ball
END:VEVENT
BEGIN:VEVENT
DTSTART;TZID=America/Phoenix:20181020T180000
DTEND;TZID=America/Phoenix:20181020T230000
DTSTAMP:20260421T090136
CREATED:20180228T161336Z
LAST-MODIFIED:20180430T182146Z
UID:18940-1540058400-1540076400@www.tools4teaching.com
SUMMARY:Phantom MASKer Aide Ball
DESCRIPTION:  \n \nPlease join MASK for a lavish and meaningful experience in celebration of our 11th year as an organization that reveals and provides solutions to the struggles facing youth and families today. Your attendance and support will help us raise funds to continue our mission of empowering children to make safe\, healthy choices.\nEnjoy an elegant evening of fine dining\, music\, dancing silent and live auctions.
URL:https://www.tools4teaching.com/event/phantom-masker-aide-ball/
LOCATION:Fairmont Scottsdale Princess Hotel & Resort\, 7575 E Princess Dr.\, Scottsdale\, AZ\, 85225\, United States
CATEGORIES:Espańa MASKer Aide Ball
ATTACH;FMTTYPE=image/jpeg:https://www.tools4teaching.com/wp-content/uploads/2018/02/PMAB_2018_SavDate_YouTu.jpg
END:VEVENT
END:VCALENDAR